BEGIN:VCALENDAR
VERSION:2.0
PRODID:-//Urbanraum - ECPv6.0.13.1//NONSGML v1.0//EN
CALSCALE:GREGORIAN
METHOD:PUBLISH
X-WR-CALNAME:Urbanraum
X-ORIGINAL-URL:https://urbanraum.com
X-WR-CALDESC:Veranstaltungen für Urbanraum
REFRESH-INTERVAL;VALUE=DURATION:PT1H
X-Robots-Tag:noindex
X-PUBLISHED-TTL:PT1H
BEGIN:VTIMEZONE
TZID:Europe/Berlin
BEGIN:DAYLIGHT
TZOFFSETFROM:+0100
TZOFFSETTO:+0200
TZNAME:CEST
DTSTART:20270328T010000
END:DAYLIGHT
BEGIN:STANDARD
TZOFFSETFROM:+0200
TZOFFSETTO:+0100
TZNAME:CET
DTSTART:20271031T010000
END:STANDARD
BEGIN:DAYLIGHT
TZOFFSETFROM:+0100
TZOFFSETTO:+0200
TZNAME:CEST
DTSTART:20280326T010000
END:DAYLIGHT
BEGIN:STANDARD
TZOFFSETFROM:+0200
TZOFFSETTO:+0100
TZNAME:CET
DTSTART:20281029T010000
END:STANDARD
END:VTIMEZONE
BEGIN:VEVENT
DTSTART;TZID=Europe/Berlin:20271202T181500
DTEND;TZID=Europe/Berlin:20271202T194500
DTSTAMP:20260419T213810
CREATED:20220628T120553Z
LAST-MODIFIED:20220628T120553Z
UID:5137-1827771300-1827776700@urbanraum.com
SUMMARY:Contemporary Dance Class (Elizaveta)
DESCRIPTION:With Elizaveta Poliakova. \nClasses are based on dynamic improvisations and technical sequences. The emphasis is on strong physicality\, clarity and imagination. The sequences include a story or poem behind the movements and aim to have you fully engage your body and mind.\nImprovisation exercises will explore how strong and clear physicality can change the state of your mind\, how to bring your imagination into clear form\, and how to let your imagination fly through your body. We will develop technique\, flexibility\, musicality\, creativity\, presence and let the joy of movement and expression shine through! \n\nYou can register via USC or email. If you don’t have USC\, you can pay between 10 and 20 euros by cash or transfer the payment.
URL:https://urbanraum.com/veranstaltung/contemporary-dance-class/2027-12-02/
LOCATION:UrbanRaum
CATEGORIES:Kurse,Kurse für Erwachsene
ATTACH;FMTTYPE=image/jpeg:https://urbanraum.com/wp-content/uploads/2022/06/wWOT5AmU-copy.jpeg
ORGANIZER;CN="Elizaveta%20Poliakova":MAILTO:elizaveta.poliakova.a@gmail.com
END:VEVENT
BEGIN:VEVENT
DTSTART;TZID=Europe/Berlin:20271209T181500
DTEND;TZID=Europe/Berlin:20271209T194500
DTSTAMP:20260419T213810
CREATED:20220628T120553Z
LAST-MODIFIED:20220628T120553Z
UID:5146-1828376100-1828381500@urbanraum.com
SUMMARY:Contemporary Dance Class (Elizaveta)
DESCRIPTION:With Elizaveta Poliakova. \nClasses are based on dynamic improvisations and technical sequences. The emphasis is on strong physicality\, clarity and imagination. The sequences include a story or poem behind the movements and aim to have you fully engage your body and mind.\nImprovisation exercises will explore how strong and clear physicality can change the state of your mind\, how to bring your imagination into clear form\, and how to let your imagination fly through your body. We will develop technique\, flexibility\, musicality\, creativity\, presence and let the joy of movement and expression shine through! \n\nYou can register via USC or email. If you don’t have USC\, you can pay between 10 and 20 euros by cash or transfer the payment.
URL:https://urbanraum.com/veranstaltung/contemporary-dance-class/2027-12-09/
LOCATION:UrbanRaum
CATEGORIES:Kurse,Kurse für Erwachsene
ATTACH;FMTTYPE=image/jpeg:https://urbanraum.com/wp-content/uploads/2022/06/wWOT5AmU-copy.jpeg
ORGANIZER;CN="Elizaveta%20Poliakova":MAILTO:elizaveta.poliakova.a@gmail.com
END:VEVENT
BEGIN:VEVENT
DTSTART;TZID=Europe/Berlin:20271216T181500
DTEND;TZID=Europe/Berlin:20271216T194500
DTSTAMP:20260419T213810
CREATED:20220628T120553Z
LAST-MODIFIED:20220628T120553Z
UID:5155-1828980900-1828986300@urbanraum.com
SUMMARY:Contemporary Dance Class (Elizaveta)
DESCRIPTION:With Elizaveta Poliakova. \nClasses are based on dynamic improvisations and technical sequences. The emphasis is on strong physicality\, clarity and imagination. The sequences include a story or poem behind the movements and aim to have you fully engage your body and mind.\nImprovisation exercises will explore how strong and clear physicality can change the state of your mind\, how to bring your imagination into clear form\, and how to let your imagination fly through your body. We will develop technique\, flexibility\, musicality\, creativity\, presence and let the joy of movement and expression shine through! \n\nYou can register via USC or email. If you don’t have USC\, you can pay between 10 and 20 euros by cash or transfer the payment.
URL:https://urbanraum.com/veranstaltung/contemporary-dance-class/2027-12-16/
LOCATION:UrbanRaum
CATEGORIES:Kurse,Kurse für Erwachsene
ATTACH;FMTTYPE=image/jpeg:https://urbanraum.com/wp-content/uploads/2022/06/wWOT5AmU-copy.jpeg
ORGANIZER;CN="Elizaveta%20Poliakova":MAILTO:elizaveta.poliakova.a@gmail.com
END:VEVENT
BEGIN:VEVENT
DTSTART;TZID=Europe/Berlin:20271223T181500
DTEND;TZID=Europe/Berlin:20271223T194500
DTSTAMP:20260419T213810
CREATED:20220628T120553Z
LAST-MODIFIED:20220628T120553Z
UID:5164-1829585700-1829591100@urbanraum.com
SUMMARY:Contemporary Dance Class (Elizaveta)
DESCRIPTION:With Elizaveta Poliakova. \nClasses are based on dynamic improvisations and technical sequences. The emphasis is on strong physicality\, clarity and imagination. The sequences include a story or poem behind the movements and aim to have you fully engage your body and mind.\nImprovisation exercises will explore how strong and clear physicality can change the state of your mind\, how to bring your imagination into clear form\, and how to let your imagination fly through your body. We will develop technique\, flexibility\, musicality\, creativity\, presence and let the joy of movement and expression shine through! \n\nYou can register via USC or email. If you don’t have USC\, you can pay between 10 and 20 euros by cash or transfer the payment.
URL:https://urbanraum.com/veranstaltung/contemporary-dance-class/2027-12-23/
LOCATION:UrbanRaum
CATEGORIES:Kurse,Kurse für Erwachsene
ATTACH;FMTTYPE=image/jpeg:https://urbanraum.com/wp-content/uploads/2022/06/wWOT5AmU-copy.jpeg
ORGANIZER;CN="Elizaveta%20Poliakova":MAILTO:elizaveta.poliakova.a@gmail.com
END:VEVENT
BEGIN:VEVENT
DTSTART;TZID=Europe/Berlin:20271230T181500
DTEND;TZID=Europe/Berlin:20271230T194500
DTSTAMP:20260419T213810
CREATED:20220628T120553Z
LAST-MODIFIED:20220628T120553Z
UID:5173-1830190500-1830195900@urbanraum.com
SUMMARY:Contemporary Dance Class (Elizaveta)
DESCRIPTION:With Elizaveta Poliakova. \nClasses are based on dynamic improvisations and technical sequences. The emphasis is on strong physicality\, clarity and imagination. The sequences include a story or poem behind the movements and aim to have you fully engage your body and mind.\nImprovisation exercises will explore how strong and clear physicality can change the state of your mind\, how to bring your imagination into clear form\, and how to let your imagination fly through your body. We will develop technique\, flexibility\, musicality\, creativity\, presence and let the joy of movement and expression shine through! \n\nYou can register via USC or email. If you don’t have USC\, you can pay between 10 and 20 euros by cash or transfer the payment.
URL:https://urbanraum.com/veranstaltung/contemporary-dance-class/2027-12-30/
LOCATION:UrbanRaum
CATEGORIES:Kurse,Kurse für Erwachsene
ATTACH;FMTTYPE=image/jpeg:https://urbanraum.com/wp-content/uploads/2022/06/wWOT5AmU-copy.jpeg
ORGANIZER;CN="Elizaveta%20Poliakova":MAILTO:elizaveta.poliakova.a@gmail.com
END:VEVENT
BEGIN:VEVENT
DTSTART;TZID=Europe/Berlin:20280106T181500
DTEND;TZID=Europe/Berlin:20280106T194500
DTSTAMP:20260419T213810
CREATED:20220628T120553Z
LAST-MODIFIED:20220628T120553Z
UID:5182-1830795300-1830800700@urbanraum.com
SUMMARY:Contemporary Dance Class (Elizaveta)
DESCRIPTION:With Elizaveta Poliakova. \nClasses are based on dynamic improvisations and technical sequences. The emphasis is on strong physicality\, clarity and imagination. The sequences include a story or poem behind the movements and aim to have you fully engage your body and mind.\nImprovisation exercises will explore how strong and clear physicality can change the state of your mind\, how to bring your imagination into clear form\, and how to let your imagination fly through your body. We will develop technique\, flexibility\, musicality\, creativity\, presence and let the joy of movement and expression shine through! \n\nYou can register via USC or email. If you don’t have USC\, you can pay between 10 and 20 euros by cash or transfer the payment.
URL:https://urbanraum.com/veranstaltung/contemporary-dance-class/2028-01-06/
LOCATION:UrbanRaum
CATEGORIES:Kurse,Kurse für Erwachsene
ATTACH;FMTTYPE=image/jpeg:https://urbanraum.com/wp-content/uploads/2022/06/wWOT5AmU-copy.jpeg
ORGANIZER;CN="Elizaveta%20Poliakova":MAILTO:elizaveta.poliakova.a@gmail.com
END:VEVENT
BEGIN:VEVENT
DTSTART;TZID=Europe/Berlin:20280113T181500
DTEND;TZID=Europe/Berlin:20280113T194500
DTSTAMP:20260419T213810
CREATED:20220628T120553Z
LAST-MODIFIED:20220628T120553Z
UID:5191-1831400100-1831405500@urbanraum.com
SUMMARY:Contemporary Dance Class (Elizaveta)
DESCRIPTION:With Elizaveta Poliakova. \nClasses are based on dynamic improvisations and technical sequences. The emphasis is on strong physicality\, clarity and imagination. The sequences include a story or poem behind the movements and aim to have you fully engage your body and mind.\nImprovisation exercises will explore how strong and clear physicality can change the state of your mind\, how to bring your imagination into clear form\, and how to let your imagination fly through your body. We will develop technique\, flexibility\, musicality\, creativity\, presence and let the joy of movement and expression shine through! \n\nYou can register via USC or email. If you don’t have USC\, you can pay between 10 and 20 euros by cash or transfer the payment.
URL:https://urbanraum.com/veranstaltung/contemporary-dance-class/2028-01-13/
LOCATION:UrbanRaum
CATEGORIES:Kurse,Kurse für Erwachsene
ATTACH;FMTTYPE=image/jpeg:https://urbanraum.com/wp-content/uploads/2022/06/wWOT5AmU-copy.jpeg
ORGANIZER;CN="Elizaveta%20Poliakova":MAILTO:elizaveta.poliakova.a@gmail.com
END:VEVENT
BEGIN:VEVENT
DTSTART;TZID=Europe/Berlin:20280120T181500
DTEND;TZID=Europe/Berlin:20280120T194500
DTSTAMP:20260419T213810
CREATED:20220628T120553Z
LAST-MODIFIED:20220628T120553Z
UID:5200-1832004900-1832010300@urbanraum.com
SUMMARY:Contemporary Dance Class (Elizaveta)
DESCRIPTION:With Elizaveta Poliakova. \nClasses are based on dynamic improvisations and technical sequences. The emphasis is on strong physicality\, clarity and imagination. The sequences include a story or poem behind the movements and aim to have you fully engage your body and mind.\nImprovisation exercises will explore how strong and clear physicality can change the state of your mind\, how to bring your imagination into clear form\, and how to let your imagination fly through your body. We will develop technique\, flexibility\, musicality\, creativity\, presence and let the joy of movement and expression shine through! \n\nYou can register via USC or email. If you don’t have USC\, you can pay between 10 and 20 euros by cash or transfer the payment.
URL:https://urbanraum.com/veranstaltung/contemporary-dance-class/2028-01-20/
LOCATION:UrbanRaum
CATEGORIES:Kurse,Kurse für Erwachsene
ATTACH;FMTTYPE=image/jpeg:https://urbanraum.com/wp-content/uploads/2022/06/wWOT5AmU-copy.jpeg
ORGANIZER;CN="Elizaveta%20Poliakova":MAILTO:elizaveta.poliakova.a@gmail.com
END:VEVENT
BEGIN:VEVENT
DTSTART;TZID=Europe/Berlin:20280127T181500
DTEND;TZID=Europe/Berlin:20280127T194500
DTSTAMP:20260419T213810
CREATED:20220628T120553Z
LAST-MODIFIED:20220628T120553Z
UID:5209-1832609700-1832615100@urbanraum.com
SUMMARY:Contemporary Dance Class (Elizaveta)
DESCRIPTION:With Elizaveta Poliakova. \nClasses are based on dynamic improvisations and technical sequences. The emphasis is on strong physicality\, clarity and imagination. The sequences include a story or poem behind the movements and aim to have you fully engage your body and mind.\nImprovisation exercises will explore how strong and clear physicality can change the state of your mind\, how to bring your imagination into clear form\, and how to let your imagination fly through your body. We will develop technique\, flexibility\, musicality\, creativity\, presence and let the joy of movement and expression shine through! \n\nYou can register via USC or email. If you don’t have USC\, you can pay between 10 and 20 euros by cash or transfer the payment.
URL:https://urbanraum.com/veranstaltung/contemporary-dance-class/2028-01-27/
LOCATION:UrbanRaum
CATEGORIES:Kurse,Kurse für Erwachsene
ATTACH;FMTTYPE=image/jpeg:https://urbanraum.com/wp-content/uploads/2022/06/wWOT5AmU-copy.jpeg
ORGANIZER;CN="Elizaveta%20Poliakova":MAILTO:elizaveta.poliakova.a@gmail.com
END:VEVENT
BEGIN:VEVENT
DTSTART;TZID=Europe/Berlin:20280203T181500
DTEND;TZID=Europe/Berlin:20280203T194500
DTSTAMP:20260419T213810
CREATED:20220628T120553Z
LAST-MODIFIED:20220628T120553Z
UID:5218-1833214500-1833219900@urbanraum.com
SUMMARY:Contemporary Dance Class (Elizaveta)
DESCRIPTION:With Elizaveta Poliakova. \nClasses are based on dynamic improvisations and technical sequences. The emphasis is on strong physicality\, clarity and imagination. The sequences include a story or poem behind the movements and aim to have you fully engage your body and mind.\nImprovisation exercises will explore how strong and clear physicality can change the state of your mind\, how to bring your imagination into clear form\, and how to let your imagination fly through your body. We will develop technique\, flexibility\, musicality\, creativity\, presence and let the joy of movement and expression shine through! \n\nYou can register via USC or email. If you don’t have USC\, you can pay between 10 and 20 euros by cash or transfer the payment.
URL:https://urbanraum.com/veranstaltung/contemporary-dance-class/2028-02-03/
LOCATION:UrbanRaum
CATEGORIES:Kurse,Kurse für Erwachsene
ATTACH;FMTTYPE=image/jpeg:https://urbanraum.com/wp-content/uploads/2022/06/wWOT5AmU-copy.jpeg
ORGANIZER;CN="Elizaveta%20Poliakova":MAILTO:elizaveta.poliakova.a@gmail.com
END:VEVENT
BEGIN:VEVENT
DTSTART;TZID=Europe/Berlin:20280210T181500
DTEND;TZID=Europe/Berlin:20280210T194500
DTSTAMP:20260419T213810
CREATED:20220628T120553Z
LAST-MODIFIED:20220628T120553Z
UID:5227-1833819300-1833824700@urbanraum.com
SUMMARY:Contemporary Dance Class (Elizaveta)
DESCRIPTION:With Elizaveta Poliakova. \nClasses are based on dynamic improvisations and technical sequences. The emphasis is on strong physicality\, clarity and imagination. The sequences include a story or poem behind the movements and aim to have you fully engage your body and mind.\nImprovisation exercises will explore how strong and clear physicality can change the state of your mind\, how to bring your imagination into clear form\, and how to let your imagination fly through your body. We will develop technique\, flexibility\, musicality\, creativity\, presence and let the joy of movement and expression shine through! \n\nYou can register via USC or email. If you don’t have USC\, you can pay between 10 and 20 euros by cash or transfer the payment.
URL:https://urbanraum.com/veranstaltung/contemporary-dance-class/2028-02-10/
LOCATION:UrbanRaum
CATEGORIES:Kurse,Kurse für Erwachsene
ATTACH;FMTTYPE=image/jpeg:https://urbanraum.com/wp-content/uploads/2022/06/wWOT5AmU-copy.jpeg
ORGANIZER;CN="Elizaveta%20Poliakova":MAILTO:elizaveta.poliakova.a@gmail.com
END:VEVENT
BEGIN:VEVENT
DTSTART;TZID=Europe/Berlin:20280217T181500
DTEND;TZID=Europe/Berlin:20280217T194500
DTSTAMP:20260419T213810
CREATED:20220628T120553Z
LAST-MODIFIED:20220628T120553Z
UID:5236-1834424100-1834429500@urbanraum.com
SUMMARY:Contemporary Dance Class (Elizaveta)
DESCRIPTION:With Elizaveta Poliakova. \nClasses are based on dynamic improvisations and technical sequences. The emphasis is on strong physicality\, clarity and imagination. The sequences include a story or poem behind the movements and aim to have you fully engage your body and mind.\nImprovisation exercises will explore how strong and clear physicality can change the state of your mind\, how to bring your imagination into clear form\, and how to let your imagination fly through your body. We will develop technique\, flexibility\, musicality\, creativity\, presence and let the joy of movement and expression shine through! \n\nYou can register via USC or email. If you don’t have USC\, you can pay between 10 and 20 euros by cash or transfer the payment.
URL:https://urbanraum.com/veranstaltung/contemporary-dance-class/2028-02-17/
LOCATION:UrbanRaum
CATEGORIES:Kurse,Kurse für Erwachsene
ATTACH;FMTTYPE=image/jpeg:https://urbanraum.com/wp-content/uploads/2022/06/wWOT5AmU-copy.jpeg
ORGANIZER;CN="Elizaveta%20Poliakova":MAILTO:elizaveta.poliakova.a@gmail.com
END:VEVENT
BEGIN:VEVENT
DTSTART;TZID=Europe/Berlin:20280224T181500
DTEND;TZID=Europe/Berlin:20280224T194500
DTSTAMP:20260419T213810
CREATED:20220628T120553Z
LAST-MODIFIED:20220628T120553Z
UID:5245-1835028900-1835034300@urbanraum.com
SUMMARY:Contemporary Dance Class (Elizaveta)
DESCRIPTION:With Elizaveta Poliakova. \nClasses are based on dynamic improvisations and technical sequences. The emphasis is on strong physicality\, clarity and imagination. The sequences include a story or poem behind the movements and aim to have you fully engage your body and mind.\nImprovisation exercises will explore how strong and clear physicality can change the state of your mind\, how to bring your imagination into clear form\, and how to let your imagination fly through your body. We will develop technique\, flexibility\, musicality\, creativity\, presence and let the joy of movement and expression shine through! \n\nYou can register via USC or email. If you don’t have USC\, you can pay between 10 and 20 euros by cash or transfer the payment.
URL:https://urbanraum.com/veranstaltung/contemporary-dance-class/2028-02-24/
LOCATION:UrbanRaum
CATEGORIES:Kurse,Kurse für Erwachsene
ATTACH;FMTTYPE=image/jpeg:https://urbanraum.com/wp-content/uploads/2022/06/wWOT5AmU-copy.jpeg
ORGANIZER;CN="Elizaveta%20Poliakova":MAILTO:elizaveta.poliakova.a@gmail.com
END:VEVENT
BEGIN:VEVENT
DTSTART;TZID=Europe/Berlin:20280302T181500
DTEND;TZID=Europe/Berlin:20280302T194500
DTSTAMP:20260419T213810
CREATED:20220628T120553Z
LAST-MODIFIED:20220628T120553Z
UID:5254-1835633700-1835639100@urbanraum.com
SUMMARY:Contemporary Dance Class (Elizaveta)
DESCRIPTION:With Elizaveta Poliakova. \nClasses are based on dynamic improvisations and technical sequences. The emphasis is on strong physicality\, clarity and imagination. The sequences include a story or poem behind the movements and aim to have you fully engage your body and mind.\nImprovisation exercises will explore how strong and clear physicality can change the state of your mind\, how to bring your imagination into clear form\, and how to let your imagination fly through your body. We will develop technique\, flexibility\, musicality\, creativity\, presence and let the joy of movement and expression shine through! \n\nYou can register via USC or email. If you don’t have USC\, you can pay between 10 and 20 euros by cash or transfer the payment.
URL:https://urbanraum.com/veranstaltung/contemporary-dance-class/2028-03-02/
LOCATION:UrbanRaum
CATEGORIES:Kurse,Kurse für Erwachsene
ATTACH;FMTTYPE=image/jpeg:https://urbanraum.com/wp-content/uploads/2022/06/wWOT5AmU-copy.jpeg
ORGANIZER;CN="Elizaveta%20Poliakova":MAILTO:elizaveta.poliakova.a@gmail.com
END:VEVENT
BEGIN:VEVENT
DTSTART;TZID=Europe/Berlin:20280309T181500
DTEND;TZID=Europe/Berlin:20280309T194500
DTSTAMP:20260419T213810
CREATED:20220628T120553Z
LAST-MODIFIED:20220628T120553Z
UID:5263-1836238500-1836243900@urbanraum.com
SUMMARY:Contemporary Dance Class (Elizaveta)
DESCRIPTION:With Elizaveta Poliakova. \nClasses are based on dynamic improvisations and technical sequences. The emphasis is on strong physicality\, clarity and imagination. The sequences include a story or poem behind the movements and aim to have you fully engage your body and mind.\nImprovisation exercises will explore how strong and clear physicality can change the state of your mind\, how to bring your imagination into clear form\, and how to let your imagination fly through your body. We will develop technique\, flexibility\, musicality\, creativity\, presence and let the joy of movement and expression shine through! \n\nYou can register via USC or email. If you don’t have USC\, you can pay between 10 and 20 euros by cash or transfer the payment.
URL:https://urbanraum.com/veranstaltung/contemporary-dance-class/2028-03-09/
LOCATION:UrbanRaum
CATEGORIES:Kurse,Kurse für Erwachsene
ATTACH;FMTTYPE=image/jpeg:https://urbanraum.com/wp-content/uploads/2022/06/wWOT5AmU-copy.jpeg
ORGANIZER;CN="Elizaveta%20Poliakova":MAILTO:elizaveta.poliakova.a@gmail.com
END:VEVENT
BEGIN:VEVENT
DTSTART;TZID=Europe/Berlin:20280316T181500
DTEND;TZID=Europe/Berlin:20280316T194500
DTSTAMP:20260419T213810
CREATED:20220628T120553Z
LAST-MODIFIED:20220628T120553Z
UID:5272-1836843300-1836848700@urbanraum.com
SUMMARY:Contemporary Dance Class (Elizaveta)
DESCRIPTION:With Elizaveta Poliakova. \nClasses are based on dynamic improvisations and technical sequences. The emphasis is on strong physicality\, clarity and imagination. The sequences include a story or poem behind the movements and aim to have you fully engage your body and mind.\nImprovisation exercises will explore how strong and clear physicality can change the state of your mind\, how to bring your imagination into clear form\, and how to let your imagination fly through your body. We will develop technique\, flexibility\, musicality\, creativity\, presence and let the joy of movement and expression shine through! \n\nYou can register via USC or email. If you don’t have USC\, you can pay between 10 and 20 euros by cash or transfer the payment.
URL:https://urbanraum.com/veranstaltung/contemporary-dance-class/2028-03-16/
LOCATION:UrbanRaum
CATEGORIES:Kurse,Kurse für Erwachsene
ATTACH;FMTTYPE=image/jpeg:https://urbanraum.com/wp-content/uploads/2022/06/wWOT5AmU-copy.jpeg
ORGANIZER;CN="Elizaveta%20Poliakova":MAILTO:elizaveta.poliakova.a@gmail.com
END:VEVENT
BEGIN:VEVENT
DTSTART;TZID=Europe/Berlin:20280323T181500
DTEND;TZID=Europe/Berlin:20280323T194500
DTSTAMP:20260419T213810
CREATED:20220628T120553Z
LAST-MODIFIED:20220628T120553Z
UID:5281-1837448100-1837453500@urbanraum.com
SUMMARY:Contemporary Dance Class (Elizaveta)
DESCRIPTION:With Elizaveta Poliakova. \nClasses are based on dynamic improvisations and technical sequences. The emphasis is on strong physicality\, clarity and imagination. The sequences include a story or poem behind the movements and aim to have you fully engage your body and mind.\nImprovisation exercises will explore how strong and clear physicality can change the state of your mind\, how to bring your imagination into clear form\, and how to let your imagination fly through your body. We will develop technique\, flexibility\, musicality\, creativity\, presence and let the joy of movement and expression shine through! \n\nYou can register via USC or email. If you don’t have USC\, you can pay between 10 and 20 euros by cash or transfer the payment.
URL:https://urbanraum.com/veranstaltung/contemporary-dance-class/2028-03-23/
LOCATION:UrbanRaum
CATEGORIES:Kurse,Kurse für Erwachsene
ATTACH;FMTTYPE=image/jpeg:https://urbanraum.com/wp-content/uploads/2022/06/wWOT5AmU-copy.jpeg
ORGANIZER;CN="Elizaveta%20Poliakova":MAILTO:elizaveta.poliakova.a@gmail.com
END:VEVENT
BEGIN:VEVENT
DTSTART;TZID=Europe/Berlin:20280330T181500
DTEND;TZID=Europe/Berlin:20280330T194500
DTSTAMP:20260419T213810
CREATED:20220628T120553Z
LAST-MODIFIED:20220628T120553Z
UID:5290-1838052900-1838058300@urbanraum.com
SUMMARY:Contemporary Dance Class (Elizaveta)
DESCRIPTION:With Elizaveta Poliakova. \nClasses are based on dynamic improvisations and technical sequences. The emphasis is on strong physicality\, clarity and imagination. The sequences include a story or poem behind the movements and aim to have you fully engage your body and mind.\nImprovisation exercises will explore how strong and clear physicality can change the state of your mind\, how to bring your imagination into clear form\, and how to let your imagination fly through your body. We will develop technique\, flexibility\, musicality\, creativity\, presence and let the joy of movement and expression shine through! \n\nYou can register via USC or email. If you don’t have USC\, you can pay between 10 and 20 euros by cash or transfer the payment.
URL:https://urbanraum.com/veranstaltung/contemporary-dance-class/2028-03-30/
LOCATION:UrbanRaum
CATEGORIES:Kurse,Kurse für Erwachsene
ATTACH;FMTTYPE=image/jpeg:https://urbanraum.com/wp-content/uploads/2022/06/wWOT5AmU-copy.jpeg
ORGANIZER;CN="Elizaveta%20Poliakova":MAILTO:elizaveta.poliakova.a@gmail.com
END:VEVENT
BEGIN:VEVENT
DTSTART;TZID=Europe/Berlin:20280406T181500
DTEND;TZID=Europe/Berlin:20280406T194500
DTSTAMP:20260419T213810
CREATED:20220628T120553Z
LAST-MODIFIED:20220628T120553Z
UID:5299-1838657700-1838663100@urbanraum.com
SUMMARY:Contemporary Dance Class (Elizaveta)
DESCRIPTION:With Elizaveta Poliakova. \nClasses are based on dynamic improvisations and technical sequences. The emphasis is on strong physicality\, clarity and imagination. The sequences include a story or poem behind the movements and aim to have you fully engage your body and mind.\nImprovisation exercises will explore how strong and clear physicality can change the state of your mind\, how to bring your imagination into clear form\, and how to let your imagination fly through your body. We will develop technique\, flexibility\, musicality\, creativity\, presence and let the joy of movement and expression shine through! \n\nYou can register via USC or email. If you don’t have USC\, you can pay between 10 and 20 euros by cash or transfer the payment.
URL:https://urbanraum.com/veranstaltung/contemporary-dance-class/2028-04-06/
LOCATION:UrbanRaum
CATEGORIES:Kurse,Kurse für Erwachsene
ATTACH;FMTTYPE=image/jpeg:https://urbanraum.com/wp-content/uploads/2022/06/wWOT5AmU-copy.jpeg
ORGANIZER;CN="Elizaveta%20Poliakova":MAILTO:elizaveta.poliakova.a@gmail.com
END:VEVENT
BEGIN:VEVENT
DTSTART;TZID=Europe/Berlin:20280413T181500
DTEND;TZID=Europe/Berlin:20280413T194500
DTSTAMP:20260419T213810
CREATED:20220628T120553Z
LAST-MODIFIED:20220628T120553Z
UID:5308-1839262500-1839267900@urbanraum.com
SUMMARY:Contemporary Dance Class (Elizaveta)
DESCRIPTION:With Elizaveta Poliakova. \nClasses are based on dynamic improvisations and technical sequences. The emphasis is on strong physicality\, clarity and imagination. The sequences include a story or poem behind the movements and aim to have you fully engage your body and mind.\nImprovisation exercises will explore how strong and clear physicality can change the state of your mind\, how to bring your imagination into clear form\, and how to let your imagination fly through your body. We will develop technique\, flexibility\, musicality\, creativity\, presence and let the joy of movement and expression shine through! \n\nYou can register via USC or email. If you don’t have USC\, you can pay between 10 and 20 euros by cash or transfer the payment.
URL:https://urbanraum.com/veranstaltung/contemporary-dance-class/2028-04-13/
LOCATION:UrbanRaum
CATEGORIES:Kurse,Kurse für Erwachsene
ATTACH;FMTTYPE=image/jpeg:https://urbanraum.com/wp-content/uploads/2022/06/wWOT5AmU-copy.jpeg
ORGANIZER;CN="Elizaveta%20Poliakova":MAILTO:elizaveta.poliakova.a@gmail.com
END:VEVENT
END:VCALENDAR