BEGIN:VCALENDAR
VERSION:2.0
PRODID:-//Urbanraum - ECPv6.0.13.1//NONSGML v1.0//EN
CALSCALE:GREGORIAN
METHOD:PUBLISH
X-WR-CALNAME:Urbanraum
X-ORIGINAL-URL:https://urbanraum.com
X-WR-CALDESC:Veranstaltungen für Urbanraum
REFRESH-INTERVAL;VALUE=DURATION:PT1H
X-Robots-Tag:noindex
X-PUBLISHED-TTL:PT1H
BEGIN:VTIMEZONE
TZID:Europe/Berlin
BEGIN:DAYLIGHT
TZOFFSETFROM:+0100
TZOFFSETTO:+0200
TZNAME:CEST
DTSTART:20220327T010000
END:DAYLIGHT
BEGIN:STANDARD
TZOFFSETFROM:+0200
TZOFFSETTO:+0100
TZNAME:CET
DTSTART:20221030T010000
END:STANDARD
BEGIN:DAYLIGHT
TZOFFSETFROM:+0100
TZOFFSETTO:+0200
TZNAME:CEST
DTSTART:20230326T010000
END:DAYLIGHT
BEGIN:STANDARD
TZOFFSETFROM:+0200
TZOFFSETTO:+0100
TZNAME:CET
DTSTART:20231029T010000
END:STANDARD
BEGIN:DAYLIGHT
TZOFFSETFROM:+0100
TZOFFSETTO:+0200
TZNAME:CEST
DTSTART:20240331T010000
END:DAYLIGHT
BEGIN:STANDARD
TZOFFSETFROM:+0200
TZOFFSETTO:+0100
TZNAME:CET
DTSTART:20241027T010000
END:STANDARD
END:VTIMEZONE
BEGIN:VEVENT
DTSTART;TZID=Europe/Berlin:20240613T181500
DTEND;TZID=Europe/Berlin:20240613T194500
DTSTAMP:20260420T023804
CREATED:20220628T120553Z
LAST-MODIFIED:20230330T062854Z
UID:2625-1718302500-1718307900@urbanraum.com
SUMMARY:Contemporary Dance Class (Elizaveta)
DESCRIPTION:With Elizaveta Poliakova. \nClasses are based on dynamic improvisations and technical sequences. The emphasis is on strong physicality\, clarity and imagination. The sequences include a story or poem behind the movements and aim to have you fully engage your body and mind.\nImprovisation exercises will explore how strong and clear physicality can change the state of your mind\, how to bring your imagination into clear form\, and how to let your imagination fly through your body. We will develop technique\, flexibility\, musicality\, creativity\, presence and let the joy of movement and expression shine through! \n\nYou can register via USC or email. If you don’t have USC\, you can pay between 10 and 20 euros by cash or transfer the payment.
URL:https://urbanraum.com/veranstaltung/contemporary-dance-class/2024-06-13/
LOCATION:UrbanRaum
CATEGORIES:Kurse,Kurse für Erwachsene
ATTACH;FMTTYPE=image/jpeg:https://urbanraum.com/wp-content/uploads/2022/06/wWOT5AmU-copy.jpeg
ORGANIZER;CN="Elizaveta%20Poliakova":MAILTO:elizaveta.poliakova.a@gmail.com
END:VEVENT
BEGIN:VEVENT
DTSTART;TZID=Europe/Berlin:20240606T181500
DTEND;TZID=Europe/Berlin:20240606T194500
DTSTAMP:20260420T023804
CREATED:20220628T120553Z
LAST-MODIFIED:20230330T062854Z
UID:2624-1717697700-1717703100@urbanraum.com
SUMMARY:Contemporary Dance Class (Elizaveta)
DESCRIPTION:With Elizaveta Poliakova. \nClasses are based on dynamic improvisations and technical sequences. The emphasis is on strong physicality\, clarity and imagination. The sequences include a story or poem behind the movements and aim to have you fully engage your body and mind.\nImprovisation exercises will explore how strong and clear physicality can change the state of your mind\, how to bring your imagination into clear form\, and how to let your imagination fly through your body. We will develop technique\, flexibility\, musicality\, creativity\, presence and let the joy of movement and expression shine through! \n\nYou can register via USC or email. If you don’t have USC\, you can pay between 10 and 20 euros by cash or transfer the payment.
URL:https://urbanraum.com/veranstaltung/contemporary-dance-class/2024-06-06/
LOCATION:UrbanRaum
CATEGORIES:Kurse,Kurse für Erwachsene
ATTACH;FMTTYPE=image/jpeg:https://urbanraum.com/wp-content/uploads/2022/06/wWOT5AmU-copy.jpeg
ORGANIZER;CN="Elizaveta%20Poliakova":MAILTO:elizaveta.poliakova.a@gmail.com
END:VEVENT
BEGIN:VEVENT
DTSTART;TZID=Europe/Berlin:20240530T181500
DTEND;TZID=Europe/Berlin:20240530T194500
DTSTAMP:20260420T023804
CREATED:20220628T120553Z
LAST-MODIFIED:20230330T062853Z
UID:2623-1717092900-1717098300@urbanraum.com
SUMMARY:Contemporary Dance Class (Elizaveta)
DESCRIPTION:With Elizaveta Poliakova. \nClasses are based on dynamic improvisations and technical sequences. The emphasis is on strong physicality\, clarity and imagination. The sequences include a story or poem behind the movements and aim to have you fully engage your body and mind.\nImprovisation exercises will explore how strong and clear physicality can change the state of your mind\, how to bring your imagination into clear form\, and how to let your imagination fly through your body. We will develop technique\, flexibility\, musicality\, creativity\, presence and let the joy of movement and expression shine through! \n\nYou can register via USC or email. If you don’t have USC\, you can pay between 10 and 20 euros by cash or transfer the payment.
URL:https://urbanraum.com/veranstaltung/contemporary-dance-class/2024-05-30/
LOCATION:UrbanRaum
CATEGORIES:Kurse,Kurse für Erwachsene
ATTACH;FMTTYPE=image/jpeg:https://urbanraum.com/wp-content/uploads/2022/06/wWOT5AmU-copy.jpeg
ORGANIZER;CN="Elizaveta%20Poliakova":MAILTO:elizaveta.poliakova.a@gmail.com
END:VEVENT
BEGIN:VEVENT
DTSTART;TZID=Europe/Berlin:20240523T181500
DTEND;TZID=Europe/Berlin:20240523T194500
DTSTAMP:20260420T023804
CREATED:20220628T120553Z
LAST-MODIFIED:20230330T062850Z
UID:2622-1716488100-1716493500@urbanraum.com
SUMMARY:Contemporary Dance Class (Elizaveta)
DESCRIPTION:With Elizaveta Poliakova. \nClasses are based on dynamic improvisations and technical sequences. The emphasis is on strong physicality\, clarity and imagination. The sequences include a story or poem behind the movements and aim to have you fully engage your body and mind.\nImprovisation exercises will explore how strong and clear physicality can change the state of your mind\, how to bring your imagination into clear form\, and how to let your imagination fly through your body. We will develop technique\, flexibility\, musicality\, creativity\, presence and let the joy of movement and expression shine through! \n\nYou can register via USC or email. If you don’t have USC\, you can pay between 10 and 20 euros by cash or transfer the payment.
URL:https://urbanraum.com/veranstaltung/contemporary-dance-class/2024-05-23/
LOCATION:UrbanRaum
CATEGORIES:Kurse,Kurse für Erwachsene
ATTACH;FMTTYPE=image/jpeg:https://urbanraum.com/wp-content/uploads/2022/06/wWOT5AmU-copy.jpeg
ORGANIZER;CN="Elizaveta%20Poliakova":MAILTO:elizaveta.poliakova.a@gmail.com
END:VEVENT
BEGIN:VEVENT
DTSTART;TZID=Europe/Berlin:20240516T181500
DTEND;TZID=Europe/Berlin:20240516T194500
DTSTAMP:20260420T023804
CREATED:20220628T120553Z
LAST-MODIFIED:20230330T062849Z
UID:2621-1715883300-1715888700@urbanraum.com
SUMMARY:Contemporary Dance Class (Elizaveta)
DESCRIPTION:With Elizaveta Poliakova. \nClasses are based on dynamic improvisations and technical sequences. The emphasis is on strong physicality\, clarity and imagination. The sequences include a story or poem behind the movements and aim to have you fully engage your body and mind.\nImprovisation exercises will explore how strong and clear physicality can change the state of your mind\, how to bring your imagination into clear form\, and how to let your imagination fly through your body. We will develop technique\, flexibility\, musicality\, creativity\, presence and let the joy of movement and expression shine through! \n\nYou can register via USC or email. If you don’t have USC\, you can pay between 10 and 20 euros by cash or transfer the payment.
URL:https://urbanraum.com/veranstaltung/contemporary-dance-class/2024-05-16/
LOCATION:UrbanRaum
CATEGORIES:Kurse,Kurse für Erwachsene
ATTACH;FMTTYPE=image/jpeg:https://urbanraum.com/wp-content/uploads/2022/06/wWOT5AmU-copy.jpeg
ORGANIZER;CN="Elizaveta%20Poliakova":MAILTO:elizaveta.poliakova.a@gmail.com
END:VEVENT
BEGIN:VEVENT
DTSTART;TZID=Europe/Berlin:20240509T181500
DTEND;TZID=Europe/Berlin:20240509T194500
DTSTAMP:20260420T023804
CREATED:20220628T120553Z
LAST-MODIFIED:20230330T062848Z
UID:2620-1715278500-1715283900@urbanraum.com
SUMMARY:Contemporary Dance Class (Elizaveta)
DESCRIPTION:With Elizaveta Poliakova. \nClasses are based on dynamic improvisations and technical sequences. The emphasis is on strong physicality\, clarity and imagination. The sequences include a story or poem behind the movements and aim to have you fully engage your body and mind.\nImprovisation exercises will explore how strong and clear physicality can change the state of your mind\, how to bring your imagination into clear form\, and how to let your imagination fly through your body. We will develop technique\, flexibility\, musicality\, creativity\, presence and let the joy of movement and expression shine through! \n\nYou can register via USC or email. If you don’t have USC\, you can pay between 10 and 20 euros by cash or transfer the payment.
URL:https://urbanraum.com/veranstaltung/contemporary-dance-class/2024-05-09/
LOCATION:UrbanRaum
CATEGORIES:Kurse,Kurse für Erwachsene
ATTACH;FMTTYPE=image/jpeg:https://urbanraum.com/wp-content/uploads/2022/06/wWOT5AmU-copy.jpeg
ORGANIZER;CN="Elizaveta%20Poliakova":MAILTO:elizaveta.poliakova.a@gmail.com
END:VEVENT
BEGIN:VEVENT
DTSTART;TZID=Europe/Berlin:20240502T181500
DTEND;TZID=Europe/Berlin:20240502T194500
DTSTAMP:20260420T023804
CREATED:20220628T120553Z
LAST-MODIFIED:20230330T062848Z
UID:2619-1714673700-1714679100@urbanraum.com
SUMMARY:Contemporary Dance Class (Elizaveta)
DESCRIPTION:With Elizaveta Poliakova. \nClasses are based on dynamic improvisations and technical sequences. The emphasis is on strong physicality\, clarity and imagination. The sequences include a story or poem behind the movements and aim to have you fully engage your body and mind.\nImprovisation exercises will explore how strong and clear physicality can change the state of your mind\, how to bring your imagination into clear form\, and how to let your imagination fly through your body. We will develop technique\, flexibility\, musicality\, creativity\, presence and let the joy of movement and expression shine through! \n\nYou can register via USC or email. If you don’t have USC\, you can pay between 10 and 20 euros by cash or transfer the payment.
URL:https://urbanraum.com/veranstaltung/contemporary-dance-class/2024-05-02/
LOCATION:UrbanRaum
CATEGORIES:Kurse,Kurse für Erwachsene
ATTACH;FMTTYPE=image/jpeg:https://urbanraum.com/wp-content/uploads/2022/06/wWOT5AmU-copy.jpeg
ORGANIZER;CN="Elizaveta%20Poliakova":MAILTO:elizaveta.poliakova.a@gmail.com
END:VEVENT
BEGIN:VEVENT
DTSTART;TZID=Europe/Berlin:20240425T181500
DTEND;TZID=Europe/Berlin:20240425T194500
DTSTAMP:20260420T023804
CREATED:20220628T120553Z
LAST-MODIFIED:20230330T062847Z
UID:2617-1714068900-1714074300@urbanraum.com
SUMMARY:Contemporary Dance Class (Elizaveta)
DESCRIPTION:With Elizaveta Poliakova. \nClasses are based on dynamic improvisations and technical sequences. The emphasis is on strong physicality\, clarity and imagination. The sequences include a story or poem behind the movements and aim to have you fully engage your body and mind.\nImprovisation exercises will explore how strong and clear physicality can change the state of your mind\, how to bring your imagination into clear form\, and how to let your imagination fly through your body. We will develop technique\, flexibility\, musicality\, creativity\, presence and let the joy of movement and expression shine through! \n\nYou can register via USC or email. If you don’t have USC\, you can pay between 10 and 20 euros by cash or transfer the payment.
URL:https://urbanraum.com/veranstaltung/contemporary-dance-class/2024-04-25/
LOCATION:UrbanRaum
CATEGORIES:Kurse,Kurse für Erwachsene
ATTACH;FMTTYPE=image/jpeg:https://urbanraum.com/wp-content/uploads/2022/06/wWOT5AmU-copy.jpeg
ORGANIZER;CN="Elizaveta%20Poliakova":MAILTO:elizaveta.poliakova.a@gmail.com
END:VEVENT
BEGIN:VEVENT
DTSTART;TZID=Europe/Berlin:20221103T181500
DTEND;TZID=Europe/Berlin:20221103T194500
DTSTAMP:20260420T023804
CREATED:20220628T120553Z
LAST-MODIFIED:20230828T095936Z
UID:1681-1667499300-1667504700@urbanraum.com
SUMMARY:Contemporary Dance Class (Elizaveta)
DESCRIPTION:With Elizaveta Poliakova. \nClasses are based on dynamic improvisations and technical sequences. The emphasis is on strong physicality\, clarity and imagination. The sequences include a story or poem behind the movements and aim to have you fully engage your body and mind.\nImprovisation exercises will explore how strong and clear physicality can change the state of your mind\, how to bring your imagination into clear form\, and how to let your imagination fly through your body. We will develop technique\, flexibility\, musicality\, creativity\, presence and let the joy of movement and expression shine through! \n\nYou can register via USC or email. If you don’t have USC\, you can pay between 10 and 20 euros by cash or transfer the payment.
URL:https://urbanraum.com/veranstaltung/contemporary-dance-class/2022-11-03/
LOCATION:UrbanRaum
CATEGORIES:Kurse,Kurse für Erwachsene
ATTACH;FMTTYPE=image/jpeg:https://urbanraum.com/wp-content/uploads/2022/06/wWOT5AmU-copy.jpeg
ORGANIZER;CN="Elizaveta%20Poliakova":MAILTO:elizaveta.poliakova.a@gmail.com
END:VEVENT
END:VCALENDAR